BEGIN:VCALENDAR
VERSION:2.0
PRODID:-//Irish Pub Bielefeld - ECPv6.15.15//NONSGML v1.0//EN
CALSCALE:GREGORIAN
METHOD:PUBLISH
X-ORIGINAL-URL:https://www.irishpub-bielefeld.de
X-WR-CALDESC:Veranstaltungen für Irish Pub Bielefeld
REFRESH-INTERVAL;VALUE=DURATION:PT1H
X-Robots-Tag:noindex
X-PUBLISHED-TTL:PT1H
BEGIN:VTIMEZONE
TZID:Europe/Berlin
BEGIN:DAYLIGHT
TZOFFSETFROM:+0100
TZOFFSETTO:+0200
TZNAME:CEST
DTSTART:20240331T010000
END:DAYLIGHT
BEGIN:STANDARD
TZOFFSETFROM:+0200
TZOFFSETTO:+0100
TZNAME:CET
DTSTART:20241027T010000
END:STANDARD
BEGIN:DAYLIGHT
TZOFFSETFROM:+0100
TZOFFSETTO:+0200
TZNAME:CEST
DTSTART:20250330T010000
END:DAYLIGHT
BEGIN:STANDARD
TZOFFSETFROM:+0200
TZOFFSETTO:+0100
TZNAME:CET
DTSTART:20251026T010000
END:STANDARD
BEGIN:DAYLIGHT
TZOFFSETFROM:+0100
TZOFFSETTO:+0200
TZNAME:CEST
DTSTART:20260329T010000
END:DAYLIGHT
BEGIN:STANDARD
TZOFFSETFROM:+0200
TZOFFSETTO:+0100
TZNAME:CET
DTSTART:20261025T010000
END:STANDARD
END:VTIMEZONE
BEGIN:VEVENT
DTSTART;TZID=Europe/Berlin:20251113T203000
DTEND;TZID=Europe/Berlin:20251113T213000
DTSTAMP:20260424T133215
CREATED:20251020T101507Z
LAST-MODIFIED:20251107T145656Z
UID:10000038-1763065800-1763069400@www.irishpub-bielefeld.de
SUMMARY:COMEDY NIGHT - Ticket über Eventim sichern
DESCRIPTION:Hier wird authentische Stand-Up Comedy geboten. Jede Show ist einzigartig\, wobei das Publikum gerne interaktiv eingebunden wird. Zudem stellen mehrere Newcomer und Stand-Up-Profis Euch ihre neuen Jokes vor oder spielen bereits bestehende Nummern. \n\n\n\nFreut Euch auf einen unvergesslichen Abend im Irish Pub Bielefeld.Auf dem Social Media Kanal vom Comedy Club OWL könnt Ihr Euch einen Eindruck von den Shows machen. \n\n\n\nDie Tickets sind erhältlich auf der Eventim-Seite des Veranstalters (Comedy Club OWL) \n\n\n\nInstagram\n\n\n\n\nTicket kaufen
URL:https://www.irishpub-bielefeld.de/event/comedy-night-2025-11-13/
LOCATION:Irish Pub Bielefeld\, Mauerstr. 38\, Bielefeld\, NRW\, 33602\, Germany
CATEGORIES:Stand-UP COMEDY
ATTACH;FMTTYPE=image/jpeg:https://www.irishpub-bielefeld.de/wp-content/uploads/november-Bielefeld-500px_web.jpg
ORGANIZER;CN="Comedy Club OWL":MAILTO:comedyclubowl@web.de
END:VEVENT
END:VCALENDAR