BEGIN:VCALENDAR
VERSION:2.0
PRODID:-//Irish Pub Bielefeld - ECPv6.15.15//NONSGML v1.0//EN
CALSCALE:GREGORIAN
METHOD:PUBLISH
X-WR-CALNAME:Irish Pub Bielefeld
X-ORIGINAL-URL:https://www.irishpub-bielefeld.de
X-WR-CALDESC:Veranstaltungen für Irish Pub Bielefeld
REFRESH-INTERVAL;VALUE=DURATION:PT1H
X-Robots-Tag:noindex
X-PUBLISHED-TTL:PT1H
BEGIN:VTIMEZONE
TZID:Europe/Berlin
BEGIN:DAYLIGHT
TZOFFSETFROM:+0100
TZOFFSETTO:+0200
TZNAME:CEST
DTSTART:20240331T010000
END:DAYLIGHT
BEGIN:STANDARD
TZOFFSETFROM:+0200
TZOFFSETTO:+0100
TZNAME:CET
DTSTART:20241027T010000
END:STANDARD
BEGIN:DAYLIGHT
TZOFFSETFROM:+0100
TZOFFSETTO:+0200
TZNAME:CEST
DTSTART:20250330T010000
END:DAYLIGHT
BEGIN:STANDARD
TZOFFSETFROM:+0200
TZOFFSETTO:+0100
TZNAME:CET
DTSTART:20251026T010000
END:STANDARD
BEGIN:DAYLIGHT
TZOFFSETFROM:+0100
TZOFFSETTO:+0200
TZNAME:CEST
DTSTART:20260329T010000
END:DAYLIGHT
BEGIN:STANDARD
TZOFFSETFROM:+0200
TZOFFSETTO:+0100
TZNAME:CET
DTSTART:20261025T010000
END:STANDARD
END:VTIMEZONE
BEGIN:VEVENT
DTSTART;TZID=Europe/Berlin:20251118T190000
DTEND;TZID=Europe/Berlin:20251118T230000
DTSTAMP:20260420T053710
CREATED:20251021T150045Z
LAST-MODIFIED:20251108T180346Z
UID:10000040-1763492400-1763506800@www.irishpub-bielefeld.de
SUMMARY:11FREUNDE Kneipenquiz
DESCRIPTION:Du weißt\, was Helmut Kohl beim WM-Viertelfinale 1990 auf dem Platz zu suchen hatte? Oder wie der Spitzname der grönländischen Nationalmannschaft lautet? Diese und weitere Fragen klären wir beim 11FREUNDE Kneipenquiz am 18.11. im Irish Pub Bielefeld. Sei dabei und erlebe einen Abend mit spannenden Fragen\, kuriosen Anekdoten und echtem Angeberwissen mit deinen Freunden!Wann:18.11.2025Einlass: 19:00 UhrBeginn: 20:00 Uhr \n\n\n\nWo:Irish Pub BielefeldMauerstraße 38\, 33602 Bielefeld \n\n\n\nWie:Die Anmeldung läuft wie folgt: Als Team kauft ihr euch ein Teamticket für 11 EUR im 11FREUNDE Shop. Jede Bestellung enthält 6 Einzeltickets\, die ihr untereinander für den Einlass verteilt. Sprecht euch also im Team ab\, wer für das Team bestellt und die Tickets unter allen Teammitgliedern verteilt. Die Höchstzahl der Teammitglieder liegt bei 6. Natürlich könnt ihr auch kleinere Teams bilden. Eure Teammitglieder können sich ihr Ticket ausdrucken oder auf dem Handy vorzeigen. \n\n\n\nBitte beachtet: Die Tickets sind von Rabatten ausgeschlossen. \n\n\n\n\n11FREUNDE Shop
URL:https://www.irishpub-bielefeld.de/event/11freunde-kneipenquiz-2025-11-18/
LOCATION:Irish Pub Bielefeld\, Mauerstr. 38\, Bielefeld\, NRW\, 33602\, Germany
CATEGORIES:Ausgebucht,Quiz Night
ATTACH;FMTTYPE=image/png:https://www.irishpub-bielefeld.de/wp-content/uploads/11fxjameson_logo_ticketkachel_1.png
END:VEVENT
END:VCALENDAR