BEGIN:VCALENDAR
VERSION:2.0
PRODID:-//Irish Pub Bielefeld - ECPv6.15.15//NONSGML v1.0//EN
CALSCALE:GREGORIAN
METHOD:PUBLISH
X-WR-CALNAME:Irish Pub Bielefeld
X-ORIGINAL-URL:https://www.irishpub-bielefeld.de
X-WR-CALDESC:Veranstaltungen für Irish Pub Bielefeld
REFRESH-INTERVAL;VALUE=DURATION:PT1H
X-Robots-Tag:noindex
X-PUBLISHED-TTL:PT1H
BEGIN:VTIMEZONE
TZID:Europe/Berlin
BEGIN:DAYLIGHT
TZOFFSETFROM:+0100
TZOFFSETTO:+0200
TZNAME:CEST
DTSTART:20240331T010000
END:DAYLIGHT
BEGIN:STANDARD
TZOFFSETFROM:+0200
TZOFFSETTO:+0100
TZNAME:CET
DTSTART:20241027T010000
END:STANDARD
BEGIN:DAYLIGHT
TZOFFSETFROM:+0100
TZOFFSETTO:+0200
TZNAME:CEST
DTSTART:20250330T010000
END:DAYLIGHT
BEGIN:STANDARD
TZOFFSETFROM:+0200
TZOFFSETTO:+0100
TZNAME:CET
DTSTART:20251026T010000
END:STANDARD
BEGIN:DAYLIGHT
TZOFFSETFROM:+0100
TZOFFSETTO:+0200
TZNAME:CEST
DTSTART:20260329T010000
END:DAYLIGHT
BEGIN:STANDARD
TZOFFSETFROM:+0200
TZOFFSETTO:+0100
TZNAME:CET
DTSTART:20261025T010000
END:STANDARD
END:VTIMEZONE
BEGIN:VEVENT
DTSTART;TZID=Europe/Berlin:20251123T190000
DTEND;TZID=Europe/Berlin:20251123T235900
DTSTAMP:20260419T222618
CREATED:20251022T162045Z
LAST-MODIFIED:20251121T210719Z
UID:10000081-1763924400-1763942340@www.irishpub-bielefeld.de
SUMMARY:Wochenende – SAMSTAG
DESCRIPTION:Am Samstagabend wird das Irish Pub Bielefeld zum gemütlichen Treffpunkt für Freundeskreise\, Kollegen und alle\, die entspannt ins Wochenende starten möchten.Freundlich\, gesellig\, unkompliziert – genau so soll ein Samstagabend aussehen.Genießt unsere große Auswahl an irischen und internationalen Bieren\, Whisk(e)ys und Cocktails.Für den kleinen Hunger gibt’s Pizza und Nachos.Gruppen sind ausdrücklich willkommen. Wir schieben gern Tische zusammen und sorgen dafür\, dass ihr gemeinsam sitzen könnt.Reservieren empfohlen\, besonders am Wochenende.Spontan vorbeikommen? Jederzeit! Wir geben unser Bestes\, euch einen Platz zu organisieren. Startet euer Wochenende bei guter Musik\, leckeren Drinks und einer richtig angenehmen Pub-Atmosphäre mitten in der Bielefelder Innenstadt.  \n\n\n\n Bitte beim Reservieren\, das richtige Datum auswählen!   \n\n\n\n\nTisch reservieren
URL:https://www.irishpub-bielefeld.de/event/wochenende-samstag-2025-11-22/
LOCATION:Irish Pub Bielefeld\, Mauerstr. 38\, Bielefeld\, NRW\, 33602\, Germany
CATEGORIES:Wochenende
ATTACH;FMTTYPE=image/png:https://www.irishpub-bielefeld.de/wp-content/uploads/Irish_Pub_Bielefeld_Weekend.png
END:VEVENT
END:VCALENDAR